BEGIN:VCALENDAR
VERSION:2.0
PRODID:-//hacksw/handcal//NONSGML v1.0//EN
CALSCALE:GREGORIAN
BEGIN:VEVENT
DESCRIPTION:Studiedag 5 (kinderen vrij)
SUMMARY:Studiedag 5 (kinderen vrij)
DTSTART:20260504T083000Z
DTEND:20260504T141500Z
DTSTAMP:20260420T153113Z
UID:69e646c1d1a4b
END:VEVENT
END:VCALENDAR