BEGIN:VCALENDAR
VERSION:2.0
PRODID:-//hacksw/handcal//NONSGML v1.0//EN
CALSCALE:GREGORIAN
BEGIN:VEVENT
DESCRIPTION:Bevrijdingsdag (leerlingen vrij)
SUMMARY:Bevrijdingsdag (leerlingen vrij)
DTSTART:20260505T083000Z
DTEND:20260505T235900Z
DTSTAMP:20260420T153114Z
UID:69e646c256b55
END:VEVENT
END:VCALENDAR